BEGIN:VCALENDAR
VERSION:2.0
PRODID:-//Busselton Hospice Care Inc - ECPv6.15.20//NONSGML v1.0//EN
CALSCALE:GREGORIAN
METHOD:PUBLISH
X-WR-CALNAME:Busselton Hospice Care Inc
X-ORIGINAL-URL:https://busseltonhospicecareinc.org.au
X-WR-CALDESC:Events for Busselton Hospice Care Inc
REFRESH-INTERVAL;VALUE=DURATION:PT1H
X-Robots-Tag:noindex
X-PUBLISHED-TTL:PT1H
BEGIN:VTIMEZONE
TZID:Australia/Perth
BEGIN:STANDARD
TZOFFSETFROM:+0800
TZOFFSETTO:+0800
TZNAME:AWST
DTSTART:20230101T000000
END:STANDARD
END:VTIMEZONE
BEGIN:VEVENT
DTSTART;TZID=Australia/Perth:20241124T183000
DTEND;TZID=Australia/Perth:20241124T183000
DTSTAMP:20260419T042343
CREATED:20240213T023306Z
LAST-MODIFIED:20240213T023323Z
UID:371092-1732473000-1732473000@busseltonhospicecareinc.org.au
SUMMARY:Annual Community Remembrance Service
DESCRIPTION:Busselton Hospice Care Inc. is proud to partner with William Barrett and Sons to extend a warm and open invitation to anyone in our community who would like to join us in remembering those who we’ve lost and those from whom we’re currently separated. \nThis non-religious service commences at 6.30pm at Bantry Chapel\, 105 Bussell Highway\, Busselton on the last Sunday of November each year. \nCome\, light a candle\, for your loved one and know you are safe\, supported\, and uplifted by your community during the difficult journey of grief and loss. \nEveryone who attends is welcome to stay for a light supper after the service. \nFor more information please call us at Busselton Hospice Care Inc.’s on 9751 1642 or email admin@busseltonhospicecareinc.org.au
URL:https://busseltonhospicecareinc.org.au/event/annual-community-remembrance-service/
LOCATION:William Barrett and Sons\, 105 Bussell Highway\, Busselton
CATEGORIES:Annual Events
ATTACH;FMTTYPE=image/jpeg:https://busseltonhospicecareinc.org.au/wp-content/uploads/2024/02/Annual-Community-Remembrance-Service-1.jpg
ORGANIZER;CN="Busselton Hospice Care Inc":MAILTO:admin@busseltonhospicecareinc.org.au
END:VEVENT
BEGIN:VEVENT
DTSTART;TZID=Australia/Perth:20241012T180000
DTEND;TZID=Australia/Perth:20241012T233000
DTSTAMP:20260419T042343
CREATED:20240118T025610Z
LAST-MODIFIED:20240902T032013Z
UID:254698-1728756000-1728775800@busseltonhospicecareinc.org.au
SUMMARY:BHCI Spring Soirée 2024
DESCRIPTION:You are invited to a memorable evening in support of Busselton Hospice Care. Join us at the picturesque Sabina River Farm (Wonnerup South Road) with delightful culinary experiences prepared by Supper Road\, an exquisite selection of wines\, beers courtesy of Rocky Ridge Brewing\, captivating music featuring a live band post-dinner\, and the excitement of our meticulously curated Silent Auction. As a special addition this year\, we are thrilled to introduce Nina’s Jewellery\, adding a touch of sparkle and anticipation for one fortunate guest!Busselton Hospice Care will receive 100% of all profits.  \nPlease follow the link below to secure your place \nSpring Soiree tickets \n 
URL:https://busseltonhospicecareinc.org.au/event/bhci-ball-gala/
LOCATION:Sabina River Farm\, 213 Wonnerup South Road\, Yalyalup\, Western Australia\, 6280\, Australia
CATEGORIES:Annual Events
ATTACH;FMTTYPE=image/jpeg:https://busseltonhospicecareinc.org.au/wp-content/uploads/2024/01/Image-for-website-1.jpg
END:VEVENT
END:VCALENDAR